Package: TCGAutils Version: 1.29.5 Command: chmod a+r TCGAutils -R && F:\biocbuild\bbs-3.22-bioc\R\bin\R.exe CMD build --keep-empty-dirs --no-resave-data TCGAutils StartedAt: 2025-08-14 23:42:56 -0400 (Thu, 14 Aug 2025) EndedAt: 2025-08-14 23:46:17 -0400 (Thu, 14 Aug 2025) EllapsedTime: 201.1 seconds RetCode: 0 Status: OK PackageFile: TCGAutils_1.29.5.tar.gz PackageFileSize: 332.7 KiB