Package: TCGAutils Version: 1.29.5 Command: /home/biocbuild/bbs-3.22-bioc/R/bin/R CMD check --install=check:TCGAutils.install-out.txt --library=/home/biocbuild/bbs-3.22-bioc/R/site-library --timings TCGAutils_1.29.5.tar.gz StartedAt: 2025-10-28 04:50:30 -0400 (Tue, 28 Oct 2025) EndedAt: 2025-10-28 04:59:17 -0400 (Tue, 28 Oct 2025) EllapsedTime: 526.4 seconds RetCode: 0 Status: OK CheckDir: TCGAutils.Rcheck Warnings: 0