Package: TCGAutils Version: 1.29.5 Command: /Library/Frameworks/R.framework/Resources/bin/R CMD INSTALL TCGAutils StartedAt: 2025-10-24 15:43:41 -0400 (Fri, 24 Oct 2025) EndedAt: 2025-10-24 15:44:31 -0400 (Fri, 24 Oct 2025) EllapsedTime: 49.8 seconds RetCode: 0 Status: OK