Package: TCGAutils Version: 1.29.5 Command: /Library/Frameworks/R.framework/Resources/bin/R CMD build --keep-empty-dirs --no-resave-data TCGAutils StartedAt: 2025-10-24 19:02:38 -0400 (Fri, 24 Oct 2025) EndedAt: 2025-10-24 19:06:01 -0400 (Fri, 24 Oct 2025) EllapsedTime: 203.0 seconds RetCode: 0 Status: OK PackageFile: TCGAutils_1.29.5.tar.gz PackageFileSize: 398.3 KiB