Package: TCGAbiolinks Version: 2.38.0 Command: /home/biocbuild/bbs-3.22-bioc/R/bin/R CMD check --install=check:TCGAbiolinks.install-out.txt --library=/home/biocbuild/bbs-3.22-bioc/R/site-library --timings TCGAbiolinks_2.38.0.tar.gz StartedAt: 2025-11-17 04:57:34 -0500 (Mon, 17 Nov 2025) EndedAt: 2025-11-17 05:14:05 -0500 (Mon, 17 Nov 2025) EllapsedTime: 991.0 seconds RetCode: 0 Status: WARNINGS CheckDir: TCGAbiolinks.Rcheck Warnings: 2