Package: TCGAbiolinks Version: 2.37.3 Command: /home/biocbuild/bbs-3.22-bioc/R/bin/R CMD build --keep-empty-dirs --no-resave-data --md5 TCGAbiolinks StartedAt: 2025-10-24 20:36:08 -0400 (Fri, 24 Oct 2025) EndedAt: 2025-10-24 20:41:37 -0400 (Fri, 24 Oct 2025) EllapsedTime: 329.5 seconds RetCode: 0 Status: OK PackageFile: TCGAbiolinks_2.37.3.tar.gz PackageFileSize: 63.76 MiB