Package: TCGAbiolinks Version: 2.38.0 Command: /Library/Frameworks/R.framework/Resources/bin/R CMD INSTALL TCGAbiolinks StartedAt: 2025-10-31 15:32:06 -0400 (Fri, 31 Oct 2025) EndedAt: 2025-10-31 15:33:02 -0400 (Fri, 31 Oct 2025) EllapsedTime: 56.6 seconds RetCode: 0 Status: OK