Package: TCGAbiolinks Version: 2.38.0 Command: /Library/Frameworks/R.framework/Resources/bin/R CMD build --keep-empty-dirs --no-resave-data TCGAbiolinks StartedAt: 2025-10-31 19:05:39 -0400 (Fri, 31 Oct 2025) EndedAt: 2025-10-31 19:11:31 -0400 (Fri, 31 Oct 2025) EllapsedTime: 352.0 seconds RetCode: 0 Status: OK PackageFile: TCGAbiolinks_2.38.0.tar.gz PackageFileSize: 69.34 MiB