Package: TCGAbiolinks Version: 2.38.0 Command: rm -rf TCGAbiolinks.buildbin-libdir && mkdir TCGAbiolinks.buildbin-libdir && /Users/biocbuild/BBS/utils/build-universal.sh TCGAbiolinks_2.38.0.tar.gz /Library/Frameworks/R.framework/Resources/bin/R TCGAbiolinks.buildbin-libdir StartedAt: 2025-11-01 02:01:52 -0400 (Sat, 01 Nov 2025) EndedAt: 2025-11-01 02:03:15 -0400 (Sat, 01 Nov 2025) EllapsedTime: 83.1 seconds RetCode: 0 Status: OK PackageFile: TCGAbiolinks_2.38.0.tgz PackageFileSize: 67.99 MiB