Package: TCC Version: 1.49.1 Command: /home/biocbuild/bbs-3.22-bioc/R/bin/R CMD INSTALL TCC StartedAt: 2025-10-24 15:32:17 -0400 (Fri, 24 Oct 2025) EndedAt: 2025-10-24 15:32:47 -0400 (Fri, 24 Oct 2025) EllapsedTime: 29.2 seconds RetCode: 0 Status: OK