Package: TCC Version: 1.49.1 Command: /home/biocbuild/bbs-3.22-bioc/R/bin/R CMD build --keep-empty-dirs --no-resave-data --md5 TCC StartedAt: 2025-10-24 20:36:03 -0400 (Fri, 24 Oct 2025) EndedAt: 2025-10-24 20:37:40 -0400 (Fri, 24 Oct 2025) EllapsedTime: 97.3 seconds RetCode: 0 Status: OK PackageFile: TCC_1.49.1.tar.gz PackageFileSize: 3.186 MiB