Package: TCC Version: 1.50.0 Command: /Library/Frameworks/R.framework/Resources/bin/R CMD build --keep-empty-dirs --no-resave-data TCC StartedAt: 2025-11-10 17:58:29 -0500 (Mon, 10 Nov 2025) EndedAt: 2025-11-10 17:59:14 -0500 (Mon, 10 Nov 2025) EllapsedTime: 44.5 seconds RetCode: 0 Status: OK PackageFile: TCC_1.50.0.tar.gz PackageFileSize: 2.602 MiB