Package: TBSignatureProfiler Version: 1.21.4 Command: /home/biocbuild/bbs-3.22-bioc/R/bin/R CMD INSTALL TBSignatureProfiler StartedAt: 2025-10-24 16:06:50 -0400 (Fri, 24 Oct 2025) EndedAt: 2025-10-24 16:06:53 -0400 (Fri, 24 Oct 2025) EllapsedTime: 3.1 seconds RetCode: 0 Status: OK