Package: TBSignatureProfiler Version: 1.21.4 Command: /home/biocbuild/bbs-3.22-bioc/R/bin/R CMD build --keep-empty-dirs --no-resave-data --md5 TBSignatureProfiler StartedAt: 2025-10-24 20:35:59 -0400 (Fri, 24 Oct 2025) EndedAt: 2025-10-24 20:36:13 -0400 (Fri, 24 Oct 2025) EllapsedTime: 14.0 seconds RetCode: 0 Status: OK PackageFile: TBSignatureProfiler_1.21.4.tar.gz PackageFileSize: 2.898 MiB