Package: TAPseq Version: 1.22.0 Command: /Library/Frameworks/R.framework/Resources/bin/R CMD INSTALL TAPseq StartedAt: 2025-11-03 15:40:24 -0500 (Mon, 03 Nov 2025) EndedAt: 2025-11-03 15:41:18 -0500 (Mon, 03 Nov 2025) EllapsedTime: 53.8 seconds RetCode: 0 Status: OK