Package: TAPseq Version: 1.22.0 Command: /Library/Frameworks/R.framework/Resources/bin/R CMD build --keep-empty-dirs --no-resave-data TAPseq StartedAt: 2025-11-03 19:03:00 -0500 (Mon, 03 Nov 2025) EndedAt: 2025-11-03 19:07:08 -0500 (Mon, 03 Nov 2025) EllapsedTime: 248.0 seconds RetCode: 0 Status: OK PackageFile: TAPseq_1.22.0.tar.gz PackageFileSize: 2.527 MiB