Package: TAPseq Version: 1.22.0 Command: rm -rf TAPseq.buildbin-libdir && mkdir TAPseq.buildbin-libdir && /Users/biocbuild/BBS/utils/build-universal.sh TAPseq_1.22.0.tar.gz /Library/Frameworks/R.framework/Resources/bin/R TAPseq.buildbin-libdir StartedAt: 2025-11-04 02:08:02 -0500 (Tue, 04 Nov 2025) EndedAt: 2025-11-04 02:08:58 -0500 (Tue, 04 Nov 2025) EllapsedTime: 55.5 seconds RetCode: 0 Status: OK PackageFile: TAPseq_1.22.0.tgz PackageFileSize: 2.96 MiB