Package: TAPseq Version: 1.21.0 Command: /Library/Frameworks/R.framework/Resources/bin/R CMD build --keep-empty-dirs --no-resave-data TAPseq StartedAt: 2025-10-24 17:57:17 -0400 (Fri, 24 Oct 2025) EndedAt: 2025-10-24 17:58:57 -0400 (Fri, 24 Oct 2025) EllapsedTime: 100.2 seconds RetCode: 0 Status: OK PackageFile: TAPseq_1.21.0.tar.gz PackageFileSize: 2.527 MiB