Package: TAPseq Version: 1.21.0 Command: rm -rf TAPseq.buildbin-libdir && mkdir TAPseq.buildbin-libdir && /Users/biocbuild/BBS/utils/build-universal.sh TAPseq_1.21.0.tar.gz /Library/Frameworks/R.framework/Resources/bin/R TAPseq.buildbin-libdir StartedAt: 2025-10-24 23:22:14 -0400 (Fri, 24 Oct 2025) EndedAt: 2025-10-24 23:22:32 -0400 (Fri, 24 Oct 2025) EllapsedTime: 17.6 seconds RetCode: 0 Status: OK PackageFile: TAPseq_1.21.0.tgz PackageFileSize: 2.963 MiB