Package: TAPseq Version: 1.22.0 Maintainer: Andreas R. Gschwind MaintainerEmail: andreas.gschwind at stanford.edu git_url: https://git.bioconductor.org/packages/TAPseq git_branch: RELEASE_3_22 git_last_commit: d0aad39 git_last_commit_date: 2025-10-29 10:57:19 -0400 (Wed, 29 Oct 2025)