Package: TADCompare Version: 1.20.0 Command: /Library/Frameworks/R.framework/Resources/bin/R CMD build --keep-empty-dirs --no-resave-data TADCompare StartedAt: 2025-11-10 17:57:51 -0500 (Mon, 10 Nov 2025) EndedAt: 2025-11-10 17:58:23 -0500 (Mon, 10 Nov 2025) EllapsedTime: 32.4 seconds RetCode: 0 Status: OK PackageFile: TADCompare_1.20.0.tar.gz PackageFileSize: 4.202 MiB