Package: SynExtend Version: 1.21.2 Command: /home/biocbuild/bbs-3.22-bioc/R/bin/R CMD check --install=check:SynExtend.install-out.txt --library=/home/biocbuild/bbs-3.22-bioc/R/site-library --timings SynExtend_1.21.2.tar.gz StartedAt: 2025-10-25 04:49:03 -0400 (Sat, 25 Oct 2025) EndedAt: 2025-10-25 04:55:53 -0400 (Sat, 25 Oct 2025) EllapsedTime: 410.5 seconds RetCode: 0 Status: OK CheckDir: SynExtend.Rcheck Warnings: 0