Package: SynExtend Version: 1.21.2 Command: /Library/Frameworks/R.framework/Resources/bin/R CMD INSTALL SynExtend StartedAt: 2025-10-24 15:39:44 -0400 (Fri, 24 Oct 2025) EndedAt: 2025-10-24 15:40:22 -0400 (Fri, 24 Oct 2025) EllapsedTime: 37.8 seconds RetCode: 0 Status: OK