Package: SynExtend Version: 1.21.2 Command: /Library/Frameworks/R.framework/Resources/bin/R CMD build --keep-empty-dirs --no-resave-data SynExtend StartedAt: 2025-10-24 19:01:17 -0400 (Fri, 24 Oct 2025) EndedAt: 2025-10-24 19:02:38 -0400 (Fri, 24 Oct 2025) EllapsedTime: 81.1 seconds RetCode: 0 Status: OK PackageFile: SynExtend_1.21.2.tar.gz PackageFileSize: 3.131 MiB