Package: SynExtend Version: 1.21.2 Command: rm -rf SynExtend.buildbin-libdir && mkdir SynExtend.buildbin-libdir && /Users/biocbuild/BBS/utils/build-universal.sh SynExtend_1.21.2.tar.gz /Library/Frameworks/R.framework/Resources/bin/R SynExtend.buildbin-libdir StartedAt: 2025-10-25 02:07:52 -0400 (Sat, 25 Oct 2025) EndedAt: 2025-10-25 02:08:38 -0400 (Sat, 25 Oct 2025) EllapsedTime: 45.3 seconds RetCode: 0 Status: OK PackageFile: SynExtend_1.21.2.tgz PackageFileSize: 3.969 MiB