Package: SwathXtend Version: 2.31.0 Command: /home/biocbuild/bbs-3.22-bioc/R/bin/R CMD INSTALL SwathXtend StartedAt: 2025-10-24 15:14:43 -0400 (Fri, 24 Oct 2025) EndedAt: 2025-10-24 15:15:01 -0400 (Fri, 24 Oct 2025) EllapsedTime: 17.8 seconds RetCode: 0 Status: OK