Package: SurfR Version: 1.5.2 Command: /home/biocbuild/bbs-3.22-bioc/R/bin/R CMD INSTALL SurfR StartedAt: 2025-10-24 15:55:23 -0400 (Fri, 24 Oct 2025) EndedAt: 2025-10-24 15:56:03 -0400 (Fri, 24 Oct 2025) EllapsedTime: 39.7 seconds RetCode: 0 Status: OK