Package: SurfR Version: 1.5.2 Command: /home/biocbuild/bbs-3.22-bioc/R/bin/R CMD build --keep-empty-dirs --no-resave-data --md5 SurfR StartedAt: 2025-10-24 20:32:11 -0400 (Fri, 24 Oct 2025) EndedAt: 2025-10-24 20:32:53 -0400 (Fri, 24 Oct 2025) EllapsedTime: 42.0 seconds RetCode: 0 Status: OK PackageFile: SurfR_1.5.2.tar.gz PackageFileSize: 374.3 KiB