Package: SuperCellCyto Version: 0.99.3 Command: /home/biocbuild/bbs-3.22-bioc/R/bin/R CMD INSTALL SuperCellCyto StartedAt: 2025-10-24 15:21:55 -0400 (Fri, 24 Oct 2025) EndedAt: 2025-10-24 15:22:04 -0400 (Fri, 24 Oct 2025) EllapsedTime: 8.7 seconds RetCode: 0 Status: OK