Package: SuperCellCyto Version: 0.99.3 Command: /home/biocbuild/bbs-3.22-bioc/R/bin/R CMD build --keep-empty-dirs --no-resave-data --md5 SuperCellCyto StartedAt: 2025-10-24 20:31:46 -0400 (Fri, 24 Oct 2025) EndedAt: 2025-10-24 20:33:33 -0400 (Fri, 24 Oct 2025) EllapsedTime: 106.1 seconds RetCode: 0 Status: OK PackageFile: SuperCellCyto_0.99.3.tar.gz PackageFileSize: 4.383 MiB