Package: SummarizedExperiment Version: 1.39.2 Command: /Library/Frameworks/R.framework/Resources/bin/R CMD INSTALL SummarizedExperiment StartedAt: 2025-10-27 15:16:38 -0400 (Mon, 27 Oct 2025) EndedAt: 2025-10-27 15:17:18 -0400 (Mon, 27 Oct 2025) EllapsedTime: 40.0 seconds RetCode: 0 Status: OK