Package: SummarizedExperiment Version: 1.39.2 Command: /Library/Frameworks/R.framework/Resources/bin/R CMD INSTALL SummarizedExperiment StartedAt: 2025-10-24 15:13:40 -0400 (Fri, 24 Oct 2025) EndedAt: 2025-10-24 15:13:51 -0400 (Fri, 24 Oct 2025) EllapsedTime: 10.8 seconds RetCode: 0 Status: OK