Package: SummarizedExperiment Version: 1.39.2 Command: /Library/Frameworks/R.framework/Resources/bin/R CMD build --keep-empty-dirs --no-resave-data SummarizedExperiment StartedAt: 2025-10-24 17:54:51 -0400 (Fri, 24 Oct 2025) EndedAt: 2025-10-24 17:55:12 -0400 (Fri, 24 Oct 2025) EllapsedTime: 20.2 seconds RetCode: 0 Status: OK PackageFile: SummarizedExperiment_1.39.2.tar.gz PackageFileSize: 657.3 KiB