Package: SummarizedExperiment Version: 1.39.2 Command: rm -rf SummarizedExperiment.buildbin-libdir && mkdir SummarizedExperiment.buildbin-libdir && /Users/biocbuild/BBS/utils/build-universal.sh SummarizedExperiment_1.39.2.tar.gz /Library/Frameworks/R.framework/Resources/bin/R SummarizedExperiment.buildbin-libdir StartedAt: 2025-10-24 23:21:50 -0400 (Fri, 24 Oct 2025) EndedAt: 2025-10-24 23:22:02 -0400 (Fri, 24 Oct 2025) EllapsedTime: 12.3 seconds RetCode: 0 Status: OK PackageFile: SummarizedExperiment_1.39.2.tgz PackageFileSize: 1.883 MiB