Package: SubCellBarCode Version: 1.25.0 Command: /home/biocbuild/bbs-3.22-bioc/R/bin/R CMD build --keep-empty-dirs --no-resave-data --md5 SubCellBarCode StartedAt: 2025-10-24 20:31:31 -0400 (Fri, 24 Oct 2025) EndedAt: 2025-10-24 20:36:12 -0400 (Fri, 24 Oct 2025) EllapsedTime: 280.2 seconds RetCode: 0 Status: OK PackageFile: SubCellBarCode_1.25.0.tar.gz PackageFileSize: 2.308 MiB