Package: SubCellBarCode Version: 1.25.0 Command: /Library/Frameworks/R.framework/Resources/bin/R CMD INSTALL SubCellBarCode StartedAt: 2025-10-24 15:33:49 -0400 (Fri, 24 Oct 2025) EndedAt: 2025-10-24 15:34:20 -0400 (Fri, 24 Oct 2025) EllapsedTime: 30.5 seconds RetCode: 0 Status: OK