Package: SubCellBarCode Version: 1.25.0 Command: /Library/Frameworks/R.framework/Resources/bin/R CMD check --install=check:SubCellBarCode.install-out.txt --library=/Library/Frameworks/R.framework/Resources/library --no-vignettes --timings SubCellBarCode_1.25.0.tar.gz StartedAt: 2025-10-25 00:40:41 -0400 (Sat, 25 Oct 2025) EndedAt: 2025-10-25 00:44:51 -0400 (Sat, 25 Oct 2025) EllapsedTime: 249.9 seconds RetCode: 0 Status: WARNINGS CheckDir: SubCellBarCode.Rcheck Warnings: 1