Package: SubCellBarCode Version: 1.25.0 Command: /Library/Frameworks/R.framework/Resources/bin/R CMD INSTALL SubCellBarCode StartedAt: 2025-10-24 15:11:40 -0400 (Fri, 24 Oct 2025) EndedAt: 2025-10-24 15:11:49 -0400 (Fri, 24 Oct 2025) EllapsedTime: 9.2 seconds RetCode: 0 Status: OK