Package: SubCellBarCode Version: 1.25.0 Command: /Library/Frameworks/R.framework/Resources/bin/R CMD check --install=check:SubCellBarCode.install-out.txt --library=/Library/Frameworks/R.framework/Resources/library --no-vignettes --timings SubCellBarCode_1.25.0.tar.gz StartedAt: 2025-10-24 22:23:49 -0400 (Fri, 24 Oct 2025) EndedAt: 2025-10-24 22:25:16 -0400 (Fri, 24 Oct 2025) EllapsedTime: 87.0 seconds RetCode: 0 Status: WARNINGS CheckDir: SubCellBarCode.Rcheck Warnings: 1