Package: SubCellBarCode Version: 1.25.0 Command: rm -rf SubCellBarCode.buildbin-libdir && mkdir SubCellBarCode.buildbin-libdir && /Users/biocbuild/BBS/utils/build-universal.sh SubCellBarCode_1.25.0.tar.gz /Library/Frameworks/R.framework/Resources/bin/R SubCellBarCode.buildbin-libdir StartedAt: 2025-10-24 23:21:49 -0400 (Fri, 24 Oct 2025) EndedAt: 2025-10-24 23:22:00 -0400 (Fri, 24 Oct 2025) EllapsedTime: 11.3 seconds RetCode: 0 Status: OK PackageFile: SubCellBarCode_1.25.0.tgz PackageFileSize: 2.737 MiB