Package: Structstrings Version: 1.26.0 Command: /home/biocbuild/bbs-3.22-bioc/R/bin/R CMD build --keep-empty-dirs --no-resave-data --md5 Structstrings StartedAt: 2025-11-14 20:31:21 -0500 (Fri, 14 Nov 2025) EndedAt: 2025-11-14 20:31:49 -0500 (Fri, 14 Nov 2025) EllapsedTime: 28.0 seconds RetCode: 0 Status: OK PackageFile: Structstrings_1.26.0.tar.gz PackageFileSize: 375.5 KiB