Package: Structstrings Version: 1.26.0 Command: /Library/Frameworks/R.framework/Resources/bin/R CMD INSTALL Structstrings StartedAt: 2025-11-03 15:22:37 -0500 (Mon, 03 Nov 2025) EndedAt: 2025-11-03 15:23:06 -0500 (Mon, 03 Nov 2025) EllapsedTime: 29.2 seconds RetCode: 0 Status: OK