Package: Structstrings Version: 1.26.0 Command: /Library/Frameworks/R.framework/Resources/bin/R CMD build --keep-empty-dirs --no-resave-data Structstrings StartedAt: 2025-11-03 19:00:24 -0500 (Mon, 03 Nov 2025) EndedAt: 2025-11-03 19:00:56 -0500 (Mon, 03 Nov 2025) EllapsedTime: 32.0 seconds RetCode: 0 Status: OK PackageFile: Structstrings_1.26.0.tar.gz PackageFileSize: 373.3 KiB