Package: Streamer Version: 1.55.1 Command: /home/biocbuild/bbs-3.22-bioc/R/bin/R CMD INSTALL Streamer StartedAt: 2025-10-24 15:24:24 -0400 (Fri, 24 Oct 2025) EndedAt: 2025-10-24 15:24:33 -0400 (Fri, 24 Oct 2025) EllapsedTime: 8.7 seconds RetCode: 0 Status: OK