Package: Statial Version: 1.11.7 Command: /home/biocbuild/bbs-3.22-bioc/R/bin/R CMD build --keep-empty-dirs --no-resave-data --md5 Statial StartedAt: 2025-10-27 20:22:40 -0400 (Mon, 27 Oct 2025) EndedAt: 2025-10-27 20:31:46 -0400 (Mon, 27 Oct 2025) EllapsedTime: 545.8 seconds RetCode: 0 Status: OK PackageFile: Statial_1.11.7.tar.gz PackageFileSize: 9.247 MiB