Package: Statial Version: 1.12.0 Command: /Library/Frameworks/R.framework/Resources/bin/R CMD INSTALL Statial StartedAt: 2025-11-10 15:14:57 -0500 (Mon, 10 Nov 2025) EndedAt: 2025-11-10 15:15:09 -0500 (Mon, 10 Nov 2025) EllapsedTime: 12.3 seconds RetCode: 0 Status: OK