Package: Statial Version: 1.12.0 Command: /Library/Frameworks/R.framework/Resources/bin/R CMD build --keep-empty-dirs --no-resave-data Statial StartedAt: 2025-11-10 17:55:01 -0500 (Mon, 10 Nov 2025) EndedAt: 2025-11-10 17:59:10 -0500 (Mon, 10 Nov 2025) EllapsedTime: 248.8 seconds RetCode: 0 Status: OK PackageFile: Statial_1.12.0.tar.gz PackageFileSize: 9.653 MiB