Package: Statial Version: 1.12.0 Command: rm -rf Statial.buildbin-libdir && mkdir Statial.buildbin-libdir && /Users/biocbuild/BBS/utils/build-universal.sh Statial_1.12.0.tar.gz /Library/Frameworks/R.framework/Resources/bin/R Statial.buildbin-libdir StartedAt: 2025-11-10 23:38:37 -0500 (Mon, 10 Nov 2025) EndedAt: 2025-11-10 23:38:50 -0500 (Mon, 10 Nov 2025) EllapsedTime: 13.3 seconds RetCode: 0 Status: OK PackageFile: Statial_1.12.0.tgz PackageFileSize: 9.736 MiB