Package: StabMap Version: 1.3.0 Command: /home/biocbuild/R/R/bin/R CMD build --keep-empty-dirs --no-resave-data StabMap StartedAt: 2025-10-21 03:31:43 -0000 (Tue, 21 Oct 2025) EndedAt: 2025-10-21 03:37:00 -0000 (Tue, 21 Oct 2025) EllapsedTime: 317.1 seconds RetCode: 0 Status: OK PackageFile: StabMap_1.3.0.tar.gz PackageFileSize: 1.795 MiB