Package: StabMap Version: 1.3.0 Command: /home/biocbuild/bbs-3.22-bioc/R/bin/R CMD check --install=check:StabMap.install-out.txt --library=/home/biocbuild/bbs-3.22-bioc/R/site-library --timings StabMap_1.3.0.tar.gz StartedAt: 2025-10-25 04:40:10 -0400 (Sat, 25 Oct 2025) EndedAt: 2025-10-25 04:48:51 -0400 (Sat, 25 Oct 2025) EllapsedTime: 520.5 seconds RetCode: 0 Status: OK CheckDir: StabMap.Rcheck Warnings: 0